BEGIN:VCALENDAR
VERSION:2.0
PRODID:-//eot-news - ECPv6.15.20//NONSGML v1.0//EN
CALSCALE:GREGORIAN
METHOD:PUBLISH
X-ORIGINAL-URL:https://eot-news.de
X-WR-CALDESC:Veranstaltungen für eot-news
REFRESH-INTERVAL;VALUE=DURATION:PT1H
X-Robots-Tag:noindex
X-PUBLISHED-TTL:PT1H
BEGIN:VTIMEZONE
TZID:Europe/Berlin
BEGIN:DAYLIGHT
TZOFFSETFROM:+0100
TZOFFSETTO:+0200
TZNAME:CEST
DTSTART:20250330T010000
END:DAYLIGHT
BEGIN:STANDARD
TZOFFSETFROM:+0200
TZOFFSETTO:+0100
TZNAME:CET
DTSTART:20251026T010000
END:STANDARD
BEGIN:DAYLIGHT
TZOFFSETFROM:+0100
TZOFFSETTO:+0200
TZNAME:CEST
DTSTART:20260329T010000
END:DAYLIGHT
BEGIN:STANDARD
TZOFFSETFROM:+0200
TZOFFSETTO:+0100
TZNAME:CET
DTSTART:20261025T010000
END:STANDARD
BEGIN:DAYLIGHT
TZOFFSETFROM:+0100
TZOFFSETTO:+0200
TZNAME:CEST
DTSTART:20270328T010000
END:DAYLIGHT
BEGIN:STANDARD
TZOFFSETFROM:+0200
TZOFFSETTO:+0100
TZNAME:CET
DTSTART:20271031T010000
END:STANDARD
END:VTIMEZONE
BEGIN:VEVENT
DTSTART;VALUE=DATE:20260114
DTEND;VALUE=DATE:20260116
DTSTAMP:20260422T004257
CREATED:20251216T115433Z
LAST-MODIFIED:20251216T115433Z
UID:8768-1768348800-1768521599@eot-news.de
SUMMARY:UNITI Mobility & Payment Forum 2026
DESCRIPTION:Das UNITI Mobility & Payment Forum 2026 lädt Fachleute aus Energie-\, Mobilitäts- und Zahlungswirtschaft ein\, die Zukunft von Mobilität und Payment im Zeitalter der Künstlichen Intelligenz zu gestalten. Unter dem Leitmotiv „Mobility & Payment meets AI“ steht die praxisnahe Diskussion darüber\, wie intelligente Systeme Abläufe automatisieren\, personalisierte Kundenerlebnisse ermöglichen und neue Geschäftsmodelle schaffen können. \nDas Forum bietet eine Plattform für den Austausch führender Experten und Entscheidungsträger. Im Mittelpunkt stehen konkrete Anwendungsfälle\, Chancen und Herausforderungen beim Einsatz von KI in Verbindung mit Infrastruktur\, Daten und regulatorischen Anforderungen. Ziel ist es\, KI nicht als Selbstzweck\, sondern als Werkzeug für Resilienz\, Effizienz und zukunftsfähige\, skalierbare Prozesse zu nutzen. \nVon Tankstellen über Ladeinfrastruktur bis hin zu digitalen Services zeigt das Forum\, wie smarte Systeme Abläufe optimieren\, Ressourcen effizient einsetzen und neue Wertschöpfungspotenziale erschließen können. Teilnehmer erhalten praxisnahe Einblicke\, inspirierende Impulse und die Möglichkeit\, Netzwerke für die nächste Generation von Mobilitäts- und Paymentlösungen zu knüpfen.
URL:https://eot-news.de/event/uniti-mobility-payment-forum-2026/
LOCATION:Grand Elysée Hotel\, Rothenbaumchaussee 10\, Hamburg\, Hamburg\, 20148\, Deutschland
END:VEVENT
BEGIN:VEVENT
DTSTART;TZID=Europe/Berlin:20260115T110000
DTEND;TZID=Europe/Berlin:20260115T120000
DTSTAMP:20260422T004257
CREATED:20251223T081653Z
LAST-MODIFIED:20251223T081653Z
UID:8815-1768474800-1768478400@eot-news.de
SUMMARY:Webinar: Ohne Infrastruktur kein Markt – ohne Markt keine Infrastruktur: Wege aus dem Chicken-Egg-Problem im Carbon Management
DESCRIPTION:Gemeinsam mit Experten aus Wirtschaft und Zivilgesellschaft widmet sich das Webinar den zentralen Struktur- und Ordnungsfragen des Carbon Managements. Im Fokus steht\, welche Voraussetzungen geschaffen werden müssen\, damit Projekte\, Geschäftsmodelle und Märkte für CO₂-Management entstehen können. Diskutiert wird außerdem\, welche Rolle Regulierung\, Marktgestaltung und staatliche Koordination beim Hochlauf einer leistungsfähigen CO₂-Infrastruktur spielen sollten. \nNach kurzen Impulsvorträgen lädt eine Q&A-Runde zur aktiven Beteiligung des Publikums ein. Das Webinar findet zweisprachig (Deutsch/Englisch) statt. \nSpeaker & Themen: \n\n\nBellona Europa: Anforderungen an CO₂-Infrastruktur zur Erreichung von Netto-Null und bestehende Governance- und Koordinierungslücken \n\n\nAlexandra Decker (CEMEX): Investitionsunsicherheiten und Erwartungen eines Emittenten an CO₂-Infrastruktur \n\n\nNicolas Demont (TotalEnergies): Marktlogik und Nachfragesicherung aus Sicht eines Speicheranbieters \n\n\nModeration: Dr. Martin Eckert (thyssenkrupp Polysius)
URL:https://eot-news.de/event/webinar-ohne-infrastruktur-kein-markt-ohne-markt-keine-infrastruktur-wege-aus-dem-chicken-egg-problem-im-carbon-management/
LOCATION:Onlineveranstaltung
END:VEVENT
BEGIN:VEVENT
DTSTART;TZID=Europe/Berlin:20260129T100000
DTEND;TZID=Europe/Berlin:20260129T190000
DTSTAMP:20260422T004257
CREATED:20260121T082405Z
LAST-MODIFIED:20260121T082405Z
UID:8936-1769680800-1769713200@eot-news.de
SUMMARY:Green Connect Hamburg 2026
DESCRIPTION:Die Green Connect Hamburg 2026 findet am 29. Januar 2026 in Hamburg statt und richtet sich an kleine und mittelständische Unternehmen\, Dienstleister sowie Fachkräfte aus dem Bereich Nachhaltigkeit. Im Fokus stehen praxisnahe Ansätze und konkrete Lösungen für die klimafreundliche Transformation von Unternehmen. \nDie Veranstaltung kombiniert eine Fachmesse mit Vorträgen\, Kurzimpulsen und Erfahrungsberichten aus der Praxis. Ergänzt wird das Programm durch 1:1-Meetings mit Experten\, Job-Speeddating sowie interaktive Aktionsflächen zu Themen wie Energie\, Kreislaufwirtschaft und KI. Den Abschluss bildet ein Netzwerk-Event mit einem Impulsvortrag und einer Gesprächsrunde zur Rolle der Klimaneutralität für die Hamburger Wirtschaft.
URL:https://eot-news.de/event/green-connect-hamburg-2026/
LOCATION:Handelskammer Hamburg  Adolphsplatz 1\, Adolphsplatz 1\, Hamburg\, Hamburg\, 20457
END:VEVENT
END:VCALENDAR