BEGIN:VCALENDAR
VERSION:2.0
PRODID:-//eot-news - ECPv6.15.20//NONSGML v1.0//EN
CALSCALE:GREGORIAN
METHOD:PUBLISH
X-ORIGINAL-URL:https://eot-news.de
X-WR-CALDESC:Veranstaltungen für eot-news
REFRESH-INTERVAL;VALUE=DURATION:PT1H
X-Robots-Tag:noindex
X-PUBLISHED-TTL:PT1H
BEGIN:VTIMEZONE
TZID:Europe/Berlin
BEGIN:DAYLIGHT
TZOFFSETFROM:+0100
TZOFFSETTO:+0200
TZNAME:CEST
DTSTART:20250330T010000
END:DAYLIGHT
BEGIN:STANDARD
TZOFFSETFROM:+0200
TZOFFSETTO:+0100
TZNAME:CET
DTSTART:20251026T010000
END:STANDARD
BEGIN:DAYLIGHT
TZOFFSETFROM:+0100
TZOFFSETTO:+0200
TZNAME:CEST
DTSTART:20260329T010000
END:DAYLIGHT
BEGIN:STANDARD
TZOFFSETFROM:+0200
TZOFFSETTO:+0100
TZNAME:CET
DTSTART:20261025T010000
END:STANDARD
BEGIN:DAYLIGHT
TZOFFSETFROM:+0100
TZOFFSETTO:+0200
TZNAME:CEST
DTSTART:20270328T010000
END:DAYLIGHT
BEGIN:STANDARD
TZOFFSETFROM:+0200
TZOFFSETTO:+0100
TZNAME:CET
DTSTART:20271031T010000
END:STANDARD
END:VTIMEZONE
BEGIN:VEVENT
DTSTART;VALUE=DATE:20260519
DTEND;VALUE=DATE:20260522
DTSTAMP:20260421T203915
CREATED:20251216T115421Z
LAST-MODIFIED:20260128T101020Z
UID:8758-1779148800-1779407999@eot-news.de
SUMMARY:UNITI expo 2026
DESCRIPTION:Die UNITI expo ist die zentrale Plattform für Fachleute der Tankstellen- und Carwash-Branche in Europa. In einem kompakten\, dreitägigen Format alle zwei Jahre vereint die Messe Aussteller und Besucher\, um neue Kontakte zu knüpfen\, Geschäftsbeziehungen zu festigen und sich über aktuelle Trends zu informieren. \nDie Ausstellungsfläche ist übersichtlich in vier Themenwelten gegliedert\, sodass jeder Besucher schnell das passende Angebot findet und seine Interessen gezielt verfolgen kann. Gelegen im Herzen Europas\, nur fünf Gehminuten vom internationalen Flughafen entfernt\, mit eigener Autobahnausfahrt und S-Bahn-Anbindung\, bietet die Messe Stuttgart optimale Erreichbarkeit für nationale und internationale Gäste. Modern ausgestattete Messehallen und architektonisch attraktive Räume schaffen das perfekte Ambiente für zukunftsweisende Präsentationen und Innovationen.
URL:https://eot-news.de/event/uniti-expo-2026/
LOCATION:Messe Stuttgart\, Messepiazza 1\, Stuttgart\, 70629
ATTACH;FMTTYPE=image/png:https://eot-news.de/wp-content/uploads/2025/12/UNITIexpo2026_mitDatum_DE.png
END:VEVENT
END:VCALENDAR