BEGIN:VCALENDAR
VERSION:2.0
PRODID:-//eot-news - ECPv6.15.20//NONSGML v1.0//EN
CALSCALE:GREGORIAN
METHOD:PUBLISH
X-WR-CALNAME:eot-news
X-ORIGINAL-URL:https://eot-news.de
X-WR-CALDESC:Veranstaltungen für eot-news
REFRESH-INTERVAL;VALUE=DURATION:PT1H
X-Robots-Tag:noindex
X-PUBLISHED-TTL:PT1H
BEGIN:VTIMEZONE
TZID:Europe/Berlin
BEGIN:DAYLIGHT
TZOFFSETFROM:+0100
TZOFFSETTO:+0200
TZNAME:CEST
DTSTART:20250330T010000
END:DAYLIGHT
BEGIN:STANDARD
TZOFFSETFROM:+0200
TZOFFSETTO:+0100
TZNAME:CET
DTSTART:20251026T010000
END:STANDARD
BEGIN:DAYLIGHT
TZOFFSETFROM:+0100
TZOFFSETTO:+0200
TZNAME:CEST
DTSTART:20260329T010000
END:DAYLIGHT
BEGIN:STANDARD
TZOFFSETFROM:+0200
TZOFFSETTO:+0100
TZNAME:CET
DTSTART:20261025T010000
END:STANDARD
BEGIN:DAYLIGHT
TZOFFSETFROM:+0100
TZOFFSETTO:+0200
TZNAME:CEST
DTSTART:20270328T010000
END:DAYLIGHT
BEGIN:STANDARD
TZOFFSETFROM:+0200
TZOFFSETTO:+0100
TZNAME:CET
DTSTART:20271031T010000
END:STANDARD
END:VTIMEZONE
BEGIN:VEVENT
DTSTART;TZID=Europe/Berlin:20260226T100000
DTEND;TZID=Europe/Berlin:20260227T153000
DTSTAMP:20260421T204538
CREATED:20260211T100234Z
LAST-MODIFIED:20260211T100234Z
UID:9145-1772100000-1772206200@eot-news.de
SUMMARY:GeoTHERM 2026
DESCRIPTION:Die GeoTHERM die internationale Fachmesse mit Kongress\, die sich vollständig dem Thema Geothermie widmet – also der Nutzung von Erdwärme für Wärme- und Stromerzeugung. Sie findet am 26. und 27. Februar 2026 in Offenburg statt und gilt als die weltweit führende Veranstaltung dieser Art. Auf der Messe präsentieren rund 280 Aussteller aktuelle Technologien und Projekte\, während parallel zwei Fachkongresse zu oberflächennaher und tiefer Geothermie stattfinden. Die Besucher erhalten dort Einblicke in Forschung\, Anlagenbetrieb\, neue Speichertechnologien und bohrtechnische Entwicklungen. \n\nFür DGMK‑Mitglieder besteht die Möglichkeit\, kostenfreie 1‑Tagestickets für die GeoTHERM zu erhalten. Interessierte können diese bis zum 13. Februar 2026 per E‑Mail an ines.musekamp@dgmk.de anfordern.
URL:https://eot-news.de/event/geotherm-2026-2/
LOCATION:Messe Offenburg-Ortenau\, Schutterwälder Str. 3\, Offenburg\, Baden-Württemberg\, 77656
ORGANIZER;CN="Messe Offenburg-Ortenau GmbH":MAILTO:info@messe-offenburg.de
END:VEVENT
END:VCALENDAR