BEGIN:VCALENDAR
VERSION:2.0
PRODID:-//eot-news - ECPv6.15.20//NONSGML v1.0//EN
CALSCALE:GREGORIAN
METHOD:PUBLISH
X-ORIGINAL-URL:https://eot-news.de
X-WR-CALDESC:Veranstaltungen für eot-news
REFRESH-INTERVAL;VALUE=DURATION:PT1H
X-Robots-Tag:noindex
X-PUBLISHED-TTL:PT1H
BEGIN:VTIMEZONE
TZID:Europe/Berlin
BEGIN:DAYLIGHT
TZOFFSETFROM:+0100
TZOFFSETTO:+0200
TZNAME:CEST
DTSTART:20250330T010000
END:DAYLIGHT
BEGIN:STANDARD
TZOFFSETFROM:+0200
TZOFFSETTO:+0100
TZNAME:CET
DTSTART:20251026T010000
END:STANDARD
BEGIN:DAYLIGHT
TZOFFSETFROM:+0100
TZOFFSETTO:+0200
TZNAME:CEST
DTSTART:20260329T010000
END:DAYLIGHT
BEGIN:STANDARD
TZOFFSETFROM:+0200
TZOFFSETTO:+0100
TZNAME:CET
DTSTART:20261025T010000
END:STANDARD
BEGIN:DAYLIGHT
TZOFFSETFROM:+0100
TZOFFSETTO:+0200
TZNAME:CEST
DTSTART:20270328T010000
END:DAYLIGHT
BEGIN:STANDARD
TZOFFSETFROM:+0200
TZOFFSETTO:+0100
TZNAME:CET
DTSTART:20271031T010000
END:STANDARD
END:VTIMEZONE
BEGIN:VEVENT
DTSTART;VALUE=DATE:20260210
DTEND;VALUE=DATE:20260213
DTSTAMP:20260422T002928
CREATED:20260128T101347Z
LAST-MODIFIED:20260128T101347Z
UID:8971-1770681600-1770940799@eot-news.de
SUMMARY:E-world energy & water 2026
DESCRIPTION:Die Messe E-world energy & water in Essen ist die europäische Leitmesse der Energie- und Wasserwirtschaft mit begleitendem Kongress. Zahlreiche renommierte Aussteller aus mehr als 27 Nationen präsentieren auf der E-world energy & water Messe Essen ihre Produkte und Dienstleistungen rund um innovative Lösungen für die Energieversorgung der Zukunft. \nDabei erstreckt sich das Angebotsspektrum von der Energie-Erzeugung über Handel\, Transport und Speicherung bis hin zu Effizienz und dem Top-Thema Smart Energy bei dem es um effektive Vernetzung und Steuerung von Stromerzeugern\, Speichersystemen und Verbrauchern sowie IT-Sicherheit und Energieeffizienz geht. Im fachlichen Rahmenprogramm der E-world Messe Essen informieren zudem hochkarätige Experten aus Industrie\, Politik und Wissenschaft in zahlreichen Konferenzen rund um internationale Marktentwicklungen\, Vertrieb\, Handel und Energierecht.
URL:https://eot-news.de/event/e-world-energy-water-2026/
LOCATION:Messe Essen\, Messeplatz 1\, Essen\, 45131\, Deutschland
ORGANIZER;CN="Messe Essen GmbH":MAILTO:info@messe-essen.de
END:VEVENT
END:VCALENDAR