BEGIN:VCALENDAR
VERSION:2.0
PRODID:-//eot-news - ECPv6.15.20//NONSGML v1.0//EN
CALSCALE:GREGORIAN
METHOD:PUBLISH
X-WR-CALNAME:eot-news
X-ORIGINAL-URL:https://eot-news.de
X-WR-CALDESC:Veranstaltungen für eot-news
REFRESH-INTERVAL;VALUE=DURATION:PT1H
X-Robots-Tag:noindex
X-PUBLISHED-TTL:PT1H
BEGIN:VTIMEZONE
TZID:Europe/Berlin
BEGIN:DAYLIGHT
TZOFFSETFROM:+0100
TZOFFSETTO:+0200
TZNAME:CEST
DTSTART:20250330T010000
END:DAYLIGHT
BEGIN:STANDARD
TZOFFSETFROM:+0200
TZOFFSETTO:+0100
TZNAME:CET
DTSTART:20251026T010000
END:STANDARD
BEGIN:DAYLIGHT
TZOFFSETFROM:+0100
TZOFFSETTO:+0200
TZNAME:CEST
DTSTART:20260329T010000
END:DAYLIGHT
BEGIN:STANDARD
TZOFFSETFROM:+0200
TZOFFSETTO:+0100
TZNAME:CET
DTSTART:20261025T010000
END:STANDARD
BEGIN:DAYLIGHT
TZOFFSETFROM:+0100
TZOFFSETTO:+0200
TZNAME:CEST
DTSTART:20270328T010000
END:DAYLIGHT
BEGIN:STANDARD
TZOFFSETFROM:+0200
TZOFFSETTO:+0100
TZNAME:CET
DTSTART:20271031T010000
END:STANDARD
END:VTIMEZONE
BEGIN:VEVENT
DTSTART;VALUE=DATE:20260114
DTEND;VALUE=DATE:20260116
DTSTAMP:20260422T024330
CREATED:20251216T115433Z
LAST-MODIFIED:20251216T115433Z
UID:8768-1768348800-1768521599@eot-news.de
SUMMARY:UNITI Mobility & Payment Forum 2026
DESCRIPTION:Das UNITI Mobility & Payment Forum 2026 lädt Fachleute aus Energie-\, Mobilitäts- und Zahlungswirtschaft ein\, die Zukunft von Mobilität und Payment im Zeitalter der Künstlichen Intelligenz zu gestalten. Unter dem Leitmotiv „Mobility & Payment meets AI“ steht die praxisnahe Diskussion darüber\, wie intelligente Systeme Abläufe automatisieren\, personalisierte Kundenerlebnisse ermöglichen und neue Geschäftsmodelle schaffen können. \nDas Forum bietet eine Plattform für den Austausch führender Experten und Entscheidungsträger. Im Mittelpunkt stehen konkrete Anwendungsfälle\, Chancen und Herausforderungen beim Einsatz von KI in Verbindung mit Infrastruktur\, Daten und regulatorischen Anforderungen. Ziel ist es\, KI nicht als Selbstzweck\, sondern als Werkzeug für Resilienz\, Effizienz und zukunftsfähige\, skalierbare Prozesse zu nutzen. \nVon Tankstellen über Ladeinfrastruktur bis hin zu digitalen Services zeigt das Forum\, wie smarte Systeme Abläufe optimieren\, Ressourcen effizient einsetzen und neue Wertschöpfungspotenziale erschließen können. Teilnehmer erhalten praxisnahe Einblicke\, inspirierende Impulse und die Möglichkeit\, Netzwerke für die nächste Generation von Mobilitäts- und Paymentlösungen zu knüpfen.
URL:https://eot-news.de/event/uniti-mobility-payment-forum-2026/
LOCATION:Grand Elysée Hotel\, Rothenbaumchaussee 10\, Hamburg\, Hamburg\, 20148\, Deutschland
END:VEVENT
END:VCALENDAR