BEGIN:VCALENDAR
VERSION:2.0
PRODID:-//eot-news - ECPv6.15.20//NONSGML v1.0//EN
CALSCALE:GREGORIAN
METHOD:PUBLISH
X-ORIGINAL-URL:https://eot-news.de
X-WR-CALDESC:Veranstaltungen für eot-news
REFRESH-INTERVAL;VALUE=DURATION:PT1H
X-Robots-Tag:noindex
X-PUBLISHED-TTL:PT1H
BEGIN:VTIMEZONE
TZID:Europe/Berlin
BEGIN:DAYLIGHT
TZOFFSETFROM:+0100
TZOFFSETTO:+0200
TZNAME:CEST
DTSTART:20230326T010000
END:DAYLIGHT
BEGIN:STANDARD
TZOFFSETFROM:+0200
TZOFFSETTO:+0100
TZNAME:CET
DTSTART:20231029T010000
END:STANDARD
BEGIN:DAYLIGHT
TZOFFSETFROM:+0100
TZOFFSETTO:+0200
TZNAME:CEST
DTSTART:20240331T010000
END:DAYLIGHT
BEGIN:STANDARD
TZOFFSETFROM:+0200
TZOFFSETTO:+0100
TZNAME:CET
DTSTART:20241027T010000
END:STANDARD
BEGIN:DAYLIGHT
TZOFFSETFROM:+0100
TZOFFSETTO:+0200
TZNAME:CEST
DTSTART:20250330T010000
END:DAYLIGHT
BEGIN:STANDARD
TZOFFSETFROM:+0200
TZOFFSETTO:+0100
TZNAME:CET
DTSTART:20251026T010000
END:STANDARD
END:VTIMEZONE
BEGIN:VEVENT
DTSTART;VALUE=DATE:20241015
DTEND;VALUE=DATE:20241018
DTSTAMP:20260423T112649
CREATED:20240813T085801Z
LAST-MODIFIED:20240813T085801Z
UID:3828-1728950400-1729209599@eot-news.de
SUMMARY:eMove360° Europe 2024
DESCRIPTION:Das Konzept der eMove360° konzentriert sich auf Engineering\, Technologie und B2B\, mit einem Fokus auf: \n\nAutonome Mobilität & Vernetzung\nBatterie & Antriebsstrang\nLaden & Energie\nFahrzeuge & Mobilität\n\nDiese Bereiche stehen auch im Mittelpunkt der englischsprachigen eMove360° Future Mobility Conference 2024\, einem HighTech-Kongress\, der parallel zur Messe an allen drei Tagen stattfindet. \nDie Zielgruppen der Veranstaltung sind klar auf Technologie und B2B ausgerichtet und umfassen Ingenieure\, IT-Experten und Designer aus der Automobil- und Energiebranche sowie ein breites Spektrum professioneller Anwender und Nutzer\, darunter Fuhrparkmanager\, Verkehrsbetriebe\, Städte und Gemeinden\, Sharing-Dienste\, Lieferdienste\, Tourismusunternehmen\, Elektrohandwerker sowie Betreiber von Parkplätzen\, Raststätten und Tankstellen.
URL:https://eot-news.de/event/emove360-europe-2024/
LOCATION:Messe München\, Am Messesee\, München\, 81829\, Deutschland
ORGANIZER;CN="MunichExpo Veranstaltungs GmbH":MAILTO:info@emove360.com
END:VEVENT
BEGIN:VEVENT
DTSTART;TZID=Europe/Berlin:20241015T093000
DTEND;TZID=Europe/Berlin:20241016T153000
DTSTAMP:20260423T112649
CREATED:20241001T080442Z
LAST-MODIFIED:20241001T080442Z
UID:5482-1728984600-1729092600@eot-news.de
SUMMARY:AUTOMATION NEXT CONFERENCE 2024
DESCRIPTION:Die AUTOMATION NEXT CONFERENCE 2024 findet am 15. und 16. Oktober 2024 im Nestor Hotel in Ludwigsburg statt. Die Konferenz bietet Plattform für Innovationen und wegweisende Technologien in der Automatisierungsbranche. \nEinige der Hauptthemen der Konferenz sind: \n\nIndustrial Networks: Effiziente\, sichere und vernetzte Produktion in der Industrie 4.0.\nEdge Computing und Cloud-Lösungen: Echtzeit-Datenverarbeitung und -analyse zur Steigerung der Effizienz und Flexibilität industrieller Prozesse.\nCobots und KI: Einsatz kollaborativer Roboter und künstlicher Intelligenz zur Überbrückung des Fachkräftemangels und Reduzierung der Arbeitsbelastung.\n\nDie Konferenz bietet eine Vielzahl von Vorträgen\, interaktiven Workshops und eine beeindruckende Ausstellung. Renommierte Experten und Branchenführer werden die neuesten Entwicklungen\, Herausforderungen und Chancen der Automatisierung diskutieren.
URL:https://eot-news.de/event/automation-next-conference-2024/
LOCATION:Nestor Hotel Ludwigsburg\, Stuttgarter Straße 35/2\, Ludwigsburg\, 71638
ORGANIZER;CN="S%C3%BCddeutscher Verlag Veranstaltungen GmbH":MAILTO:info@sv-veranstaltungen.de
END:VEVENT
BEGIN:VEVENT
DTSTART;TZID=Europe/Berlin:20241015T094500
DTEND;TZID=Europe/Berlin:20241015T164000
DTSTAMP:20260423T112649
CREATED:20240918T112426Z
LAST-MODIFIED:20240918T112426Z
UID:5715-1728985500-1729010400@eot-news.de
SUMMARY:Der DECHEMA Infotag Bio-Komposite für die Kreislaufwirtschaft
DESCRIPTION:Am 15. Oktober 2024 findet im DECHEMA-Haus in Frankfurt am Main die veranstaltung „Bio-Komposite für die Kreislaufwirtschaft“ statt. Dort erfahren Sie in Vorträgen alles über die Einsatzmöglichkeiten von biogenen Komponenten in strukturellen und funktionalen Anwendungen. Hören Sie Vorträge von Experten wie Tobias Kraus (INM) Michael Buchmeister Universität Stuttgart) und Johannes Ganster (Fraunhofer IAP).
URL:https://eot-news.de/event/der-dechema-infotag-bio-komposite-fuer-die-kreislaufwirtschaft/
LOCATION:DECHEMA_Haus\, Theodor-Heuss-Allee 25\, Frankfurt/Main\, 60486
END:VEVENT
END:VCALENDAR